﻿
BEGIN:VCALENDAR
VERSION:2.0
PRODID:-//Creating Pathways - ECPv6.15.20//NONSGML v1.0//EN
CALSCALE:GREGORIAN
METHOD:PUBLISH
X-WR-CALNAME:Creating Pathways
X-ORIGINAL-URL:https://creatingpathways.co.uk
X-WR-CALDESC:Events for Creating Pathways
REFRESH-INTERVAL;VALUE=DURATION:PT1H
X-Robots-Tag:noindex
X-PUBLISHED-TTL:PT1H
BEGIN:VTIMEZONE
TZID:Europe/London
BEGIN:DAYLIGHT
TZOFFSETFROM:+0000
TZOFFSETTO:+0100
TZNAME:BST
DTSTART:20170326T010000
END:DAYLIGHT
BEGIN:STANDARD
TZOFFSETFROM:+0100
TZOFFSETTO:+0000
TZNAME:GMT
DTSTART:20171029T010000
END:STANDARD
BEGIN:DAYLIGHT
TZOFFSETFROM:+0000
TZOFFSETTO:+0100
TZNAME:BST
DTSTART:20180325T010000
END:DAYLIGHT
BEGIN:STANDARD
TZOFFSETFROM:+0100
TZOFFSETTO:+0000
TZNAME:GMT
DTSTART:20181028T010000
END:STANDARD
BEGIN:DAYLIGHT
TZOFFSETFROM:+0000
TZOFFSETTO:+0100
TZNAME:BST
DTSTART:20190331T010000
END:DAYLIGHT
BEGIN:STANDARD
TZOFFSETFROM:+0100
TZOFFSETTO:+0000
TZNAME:GMT
DTSTART:20191027T010000
END:STANDARD
BEGIN:DAYLIGHT
TZOFFSETFROM:+0000
TZOFFSETTO:+0100
TZNAME:BST
DTSTART:20200329T010000
END:DAYLIGHT
BEGIN:STANDARD
TZOFFSETFROM:+0100
TZOFFSETTO:+0000
TZNAME:GMT
DTSTART:20201025T010000
END:STANDARD
END:VTIMEZONE
BEGIN:VEVENT
DTSTART;TZID=Europe/London:20190501T183000
DTEND;TZID=Europe/London:20190501T220000
DTSTAMP:20260421T203607
CREATED:20190501T001229Z
LAST-MODIFIED:20190501T001229Z
UID:780-1556735400-1556748000@creatingpathways.co.uk
SUMMARY:BSN City Group: Navigating the organisational landscape – getting started with positive ‘office politics’
DESCRIPTION:Navigating the Organisational Landscape by Joanna Gaudoin of Voice At The Table \nHosted by Linklaters LLP in association with the Black Solicitors Network (City Branch) (“BSN City Group“).  This seminar is the second in a series of seminar workshops for BSN City Group’s members including\, in particular\, the 2018/9 mentee cohort of BSN City Group’s Creating Pathways for mentoring and sponsorship programme. \n‘Office politics’ can often have negative connotations. However given the different people within an organisation with varying interests\, motivations and behaviours\, being politically savvy is essential for individuals to be effective in their roles and progress their careers. \nThis seminar aims to provide you with a better understanding of what “office politics” is\, why opting out is not an option and equip you with the necessary skills to be more politically intelligent at your firm/organisation. \nThe seminar will be led by Joanna Gaudoin\, a resident expert at Voice At The Table. Joanna helps individuals and organisations build better relationships and achieve greater professional success. Prior to joining Voice at The Table Joanna worked in marketing and consultancy for almost a decade. \nVoice At The Table is a strategy consultancy with a focus on gender diversity and inclusion\, they help companies prepare for the future with the benefit of gender balance and diversity of thought. \nWe hope you will be able to join us for what will be a practical and informative session. \nDate:    1 May 2019 \nTimings: \n18:30 – 19:00  Registration \n19:00 – 20:30  Navigating the Organisational Landscape \n20:30 – 22:00  Networking\, drinks and canapés \n22:00    Close \nVenue:    Linklaters LLP \nOne Silk Street \nLondon EC2Y 8HQ \n\nTo reserve a ticket\, please click here. \n\nTo the extent you have any questions on this event please contact mentoring@blacksolicitorsnetwork.org.
URL:https://creatingpathways.co.uk/event/bsn-city-group-navigating-the-organisational-landscape-getting-started-with-positive-office-politics/
LOCATION:Linklaters LLP\, One Silk Street\, London\, EC2Y 8HQ
END:VEVENT
BEGIN:VEVENT
DTSTART;TZID=Europe/London:20190403T180000
DTEND;TZID=Europe/London:20190403T210000
DTSTAMP:20260421T203607
CREATED:20190327T020431Z
LAST-MODIFIED:20190327T022548Z
UID:766-1554314400-1554325200@creatingpathways.co.uk
SUMMARY:Engaging Clients - Building Career Capital Event
DESCRIPTION:If you’re interested in attending\, please RSVP by Monday 1 April by: \nclicking here\n \nTo attend visit: clicking here\nOtherwise cut and paste this link into your browser: \nhttps://www.tickettailor.com/events/blacksolicitorsnetwork/244916
URL:https://creatingpathways.co.uk/event/engaging-clients-building-career-capital-event/
LOCATION:Allen & Overy LLP\, One Bishops Square\, London\, E1 5AD\, United Kingdom
END:VEVENT
BEGIN:VEVENT
DTSTART;TZID=Europe/London:20180926T183000
DTEND;TZID=Europe/London:20180926T203000
DTSTAMP:20260421T203607
CREATED:20180826T174954Z
LAST-MODIFIED:20180902T152910Z
UID:593-1537986600-1537993800@creatingpathways.co.uk
SUMMARY:BSN Seminar event: Artificial Intelligence and the legal profession
DESCRIPTION:BSN Seminar event: \nArtificial Intelligence and the legal profession read more…
URL:https://creatingpathways.co.uk/event/bsn-seminar-event-artificial-intelligence-and-the-legal-profession/
END:VEVENT
BEGIN:VEVENT
DTSTART;VALUE=DATE:20180921
DTEND;VALUE=DATE:20180922
DTSTAMP:20260421T203607
CREATED:20180826T174602Z
LAST-MODIFIED:20180826T174602Z
UID:591-1537488000-1537574399@creatingpathways.co.uk
SUMMARY:Creating Pathways Programme Mentee application deadline
DESCRIPTION:Creating Pathways Programme Mentee application deadline
URL:https://creatingpathways.co.uk/event/creating-pathways-programme-mentee-application-deadline/
END:VEVENT
BEGIN:VEVENT
DTSTART;TZID=Europe/London:20180910T183000
DTEND;TZID=Europe/London:20180910T203000
DTSTAMP:20260421T203607
CREATED:20180826T154131Z
LAST-MODIFIED:20180826T154131Z
UID:571-1536604200-1536611400@creatingpathways.co.uk
SUMMARY:BSN's Big Conversation - Equality in the legal profession and in the justice system
DESCRIPTION:BSN’s Big Conversation – Equality in the legal profession and in the justice system \nDate: 10 September 2018 \nTime: 6.30pm \nVenue: Linklaters LLP\, London \n\n\n\n\n\n\n\n\n\n\n\nBSN’s Big Conversation panel event brings together the voices of thought leaders and accomplished legal practitioners to shine a light on and discuss (i) issues of race equality in the legal profession (access and progression) and (ii) the impact of current criminal justice policies and practices on the treatment of people from black and minority ethnic communities (by reference to the Lammy Review 2017). \nWe hope you will join our Big Conversation on this most topical and pertinent of issues for our community and the profession! \n\nFurther details about this event will follow. In the meantime\, please register to attend by clicking: REGISTER\n\n\n\n\n\n\n\n\n\n\n\n\n\n \n\n\n\n\n\n\n\n\n\n\n\n\n 
URL:https://creatingpathways.co.uk/event/bsns-big-conversation-equality-in-the-legal-profession-and-in-the-justice-system/
END:VEVENT
BEGIN:VEVENT
DTSTART;VALUE=DATE:20180903
DTEND;VALUE=DATE:20180904
DTSTAMP:20260421T203607
CREATED:20180826T154620Z
LAST-MODIFIED:20180826T160634Z
UID:573-1535932800-1536019199@creatingpathways.co.uk
SUMMARY:03/09/2018 - Launch of Creating Pathways Programme
DESCRIPTION:Launch of 2018/19 Creating Pathways Programme
URL:https://creatingpathways.co.uk/event/20-08-2018-launch-of-creating-pathways-programme/
END:VEVENT
END:VCALENDAR